BEGIN:VCALENDAR
VERSION:2.0
PRODID:-//ABV Seminare Martens - ECPv6.15.20//NONSGML v1.0//EN
CALSCALE:GREGORIAN
METHOD:PUBLISH
X-ORIGINAL-URL:https://abv-seminare-martens.de
X-WR-CALDESC:Veranstaltungen für ABV Seminare Martens
REFRESH-INTERVAL;VALUE=DURATION:PT1H
X-Robots-Tag:noindex
X-PUBLISHED-TTL:PT1H
BEGIN:VTIMEZONE
TZID:Europe/Berlin
BEGIN:DAYLIGHT
TZOFFSETFROM:+0100
TZOFFSETTO:+0200
TZNAME:CEST
DTSTART:20250330T010000
END:DAYLIGHT
BEGIN:STANDARD
TZOFFSETFROM:+0200
TZOFFSETTO:+0100
TZNAME:CET
DTSTART:20251026T010000
END:STANDARD
BEGIN:DAYLIGHT
TZOFFSETFROM:+0100
TZOFFSETTO:+0200
TZNAME:CEST
DTSTART:20260329T010000
END:DAYLIGHT
BEGIN:STANDARD
TZOFFSETFROM:+0200
TZOFFSETTO:+0100
TZNAME:CET
DTSTART:20261025T010000
END:STANDARD
BEGIN:DAYLIGHT
TZOFFSETFROM:+0100
TZOFFSETTO:+0200
TZNAME:CEST
DTSTART:20270328T010000
END:DAYLIGHT
BEGIN:STANDARD
TZOFFSETFROM:+0200
TZOFFSETTO:+0100
TZNAME:CET
DTSTART:20271031T010000
END:STANDARD
END:VTIMEZONE
BEGIN:VEVENT
DTSTART;TZID=Europe/Berlin:20261005T090000
DTEND;TZID=Europe/Berlin:20261009T140000
DTSTAMP:20260424T130907
CREATED:20260102T123148Z
LAST-MODIFIED:20260102T123148Z
UID:10000453-1791190800-1791554400@abv-seminare-martens.de
SUMMARY:Omnibusverkehr Frankfurt
DESCRIPTION:Vorbereitungsseminar für die IHK – Fach- und Sach- und Fachkundeprüfung Omnibusverkehr. \nSeminarzeiten:\nMontag bis Donnerstag von 09:00 Uhr bis 16:30 Uhr.\nFreitag 09:00 Uhr bis 14:00 Uhr. \nVorbereitungsseminar für den Verkehrsleiter in dem Bereich Omnibusverkehr lt. BOKraft \nSie möchten sich als Omnibusunternehmer selbstständig machen? Oder evtl. in diesem Bereich ein Unternehmen führen? Dann benötigen Sie einen Verkehrsleiter.\nDafür gibt es verschiedene Möglichkeiten: \n\nSie bestehen die Sach- und Fachkundeprüfung bei der IHK im Bereich Omnibusverkehr\noder Sie stellen einen internen Betriebsleiter ein\noder Sie benötigen einen externen Betriebsleiter.\n\nNachdem die fachliche Eignung erfolgt ist\, müssen noch 3 weitere Punkte der    Berufszugangsvoraussetzung erfüllt werden: \na) Persönliche Zuverlässigkeit\nDie zuständige Genehmigungsbehörde verlangt in der Regel folgende Dokumente: \n\nEin Führungszeugnis zur Vorlage bei einer Behörde\nAuszug aus dem Gewerbezentralregister zur Vorlage bei einer Behörde\nAuszug aus dem Fahreignungsregister (FAER)\n\n  \nb) Wirtschaftliche Zuverlässigkeit \n\nUnbedenklichkeitsbescheinigung von der Berufsgenossenschaft\nUnbedenklichkeitsbescheinigung von der Krankenkasse\nUnbedenklichkeitsbescheinigung von der Gemeinde\nUnbedenklichkeitsbescheinigung vom Finanzamt\n\n  \nAusbildungsschwerpunkte: \n\nKaufmännische Grundlagen\nBetriebliches Rechnungswesen\nFinanzielle Verwaltung des Betriebes\nArbeits- und Sozialrecht\nStraßenverkehrsrecht\, Versicherungsrecht\, Umweltschutz\nMarketing\nPersonenbeförderungsgesetz\nBOKraft\nNationaler und internationaler Omnibusverkehr\nZollbestimmungen und Reisevertragsrecht\nBerufszugangsvoraussetzungen\nUnd ganz wichtig ist die Fahrzeugkostenrechnung\n\nDieses ist ein 5-tägiges Seminar! \nFolgende Leistungen sind im Seminarpreis enthalten: \n\nSeminarordner\nFachbuch Verlag Heinrich Vogel oder HeMa-Verlag\nPrüfungsfragenkatalog Verlag Heinrich Vogel oder HeMa-Verlag\nKugelschreiber\, Schreibblock\, Taschenrechner\nTeilnahmebescheinigung bei Bedarf\nGetränke wie Wasser und Kaffee (Präsentseminar)\n\n  \nDas Vorbereitungsseminar auf die IHK – Sach- und Fachkundeprüfung wird nach dem aktuellen Orientierungsrahmenplan der IHK durchgeführt.\nDie langjährige Erfahrung unserer Dozenten spiegelt sich in der Erfolgsquote unserer bestandenen Teilnehmer wider. \nÜberzeugen Sie sich selbst!
URL:https://abv-seminare-martens.de/event/omnibusverkehr-frankfurt-6/
LOCATION:Frankfurt\, Hessen
CATEGORIES:Vorbereitsungsseminar für die Sach- und Fachkundeprüfung Omnibusverkehr
ATTACH;FMTTYPE=image/webp:https://abv-seminare-martens.de/wp-content/uploads/2023/11/Omnibus-Eventbild.webp
ORGANIZER;CN="ABV-Seminare Martens":MAILTO:info@abv-seminare-martens.de
END:VEVENT
BEGIN:VEVENT
DTSTART;TZID=Europe/Berlin:20261005T090000
DTEND;TZID=Europe/Berlin:20261009T140000
DTSTAMP:20260424T130907
CREATED:20260102T123700Z
LAST-MODIFIED:20260102T123700Z
UID:10000457-1791190800-1791554400@abv-seminare-martens.de
SUMMARY:Güterverkehr Frankfurt
DESCRIPTION:Sach- und Fachkundeseminar zur Vorbereitung auf die IHK Prüfung im er Bereich Verkehrsleiter Güterkraftverkehr. \nSeminarzeiten:\nMontag bis Donnerstag von 09:00 Uhr bis 16:30 Uhr.\nFreitag 09:00 Uhr bis 14:00 Uhr. \nSie möchten sich als Transportunternehmer selbstständig machen? Oder evtl. in diesem Bereich ein Unternehmen führen? \nDann benötigen Sie einen Verkehrsleiter. Dafür gibt es verschiedene Möglichkeiten: \n\nSie bestehen die Sach- und Fachkundeprüfung bei der IHK im Bereich Güterverkehr\noder Sie stellen einen internen Betriebsleiter ein\noder Sie benötigen einen externen Betriebsleiter.\n\nNachdem die fachliche Eignung erfolgt ist\, müssen noch 3 weitere Punkte der Berufszugangsvoraussetzung erfüllt werden: \na) Persönliche Zuverlässigkeit\nDie zuständige Genehmigungsbehörde verlangt in der Regel folgende Dokumente: \n\n\n\nEin Führungszeugnis zur Vorlage bei einer Behörde\nAuszug aus dem Gewerbezentralregister zur Vorlage bei einer Behörde\nAuszug aus dem Fahreignungsregister (FAER)\n\n\n\nb) Wirtschaftliche Zuverlässigkeit \n\nUnbedenklichkeitsbescheinigung von der Berufsgenossenschaft\nUnbedenklichkeitsbescheinigung von der Krankenkasse\nUnbedenklichkeitsbescheinigung von der Gemeinde\nUnbedenklichkeitsbescheinigung vom Finanzamt\n\nAusbildungsschwerpunkte: \n\nKaufmännische Grundlagen\nBetriebliches Rechnungswesen\nFinanzielle Verwaltung des Betriebes\nArbeits- und Sozialrecht\nStraßenverkehrsrecht\, Versicherungsrecht\, Umweltschutz\nMarketing\nHandelsgesetzbuch (HGB)\nADR – Gefahrgutrecht und Gefahrgutbeauftragter\nInternationaler Güterverkehr (CMR)\nZollbestimmungen und Lebensmitteltransporte\, Abfalltransport etc.\nBerufszugangsvoraussetzungen\nUnd ganz wichtig ist die Fahrzeugkostenrechnung\n\nDieses ist ein 5-tägiges Seminar! \nFolgende Leistungen sind im Seminarpreis enthalten: \n\nSeminarordner\nFachbuch Verlag Heinrich Vogel oder HeMa-Verlag\nPrüfungsfragenkatalog Verlag Heinrich Vogel oder HeMa-Verlag\nKugelschreiber\, Schreibblock\, Taschenrechner\nTeilnahmebescheinigung bei Bedarf\nGetränke wie Wasser und Kaffee (Präsentseminar)\n\nDas Vorbereitungsseminar auf die IHK – Sach- und Fachkundeprüfung wird nach dem aktuellen Orientierungsrahmenplan der IHK durchgeführt. Die langjährige Erfahrung unserer Dozenten spiegelt sich in der Erfolgsquote unserer bestandenen Teilnehmer wider. \nÜberzeugen Sie sich selbst!
URL:https://abv-seminare-martens.de/event/gueterverkehr-frankfurt-6/
LOCATION:Frankfurt\, Hessen
CATEGORIES:Vorbereitsungsseminar für die Sach- und Fachkundeprüfung Verkehrsleiter Güterkraftverkehr
ATTACH;FMTTYPE=image/webp:https://abv-seminare-martens.de/wp-content/uploads/2023/11/Sach-und-Fachkunde-Eventbild.webp
ORGANIZER;CN="ABV-Seminare Martens":MAILTO:info@abv-seminare-martens.de
END:VEVENT
BEGIN:VEVENT
DTSTART;TZID=Europe/Berlin:20261116T090000
DTEND;TZID=Europe/Berlin:20261119T163000
DTSTAMP:20260424T130907
CREATED:20260102T122820Z
LAST-MODIFIED:20260102T122820Z
UID:10000450-1794819600-1795105800@abv-seminare-martens.de
SUMMARY:Taxi- und Mietwagenverkehr Frankfurt
DESCRIPTION:Sach- und Fachkundeseminar zur Vorbereitung auf die IHK Prüfung im er Bereich Betriebsleiter Personenverkehr \nSeminarzeiten:\nMontag bis Donnerstag von 09:00 bis 16.30 Uhr \nVorbereitungsseminar für den Betriebsleiter in dem Bereich Taxi- und Mietwagenverkehr lt. BOKraft (Dieses Seminar ist ein 4-tägiges Vollzeitseminar) \nSie möchten sich als Taxi- oder Mietwagenunternehmer selbstständig machen? Oder evtl. in diesem Bereich ein Unternehmen führen? Dann benötigen Sie einen Betriebsleiter.\nDafür gibt es verschiedene Möglichkeiten: \n\nSie bestehen die Sach- und Fachkundeprüfung bei der IHK im Bereich Taxi- oder Mietwagenverkehr\noder Sie stellen einen internen Betriebsleiter ein\noder Sie benötigen einen externen Betriebsleiter\n\nNachdem die fachliche Eignung erfolgt ist\, müssen noch 3 weitere Punkte der Berufszugangsvoraussetzung erfüllt werden: \na) Persönliche Zuverlässigkeit\nDie zuständige Genehmigungsbehörde verlangt in der Regel folgende Dokumente: \n\nEin Führungszeugnis zur Vorlage bei einer Behörde\nAuszug aus dem Gewerbezentralregister zur Vorlage bei einer Behörde\nAuszug aus dem Fahreignungsregister (FAER)\n\nb) Wirtschaftliche Zuverlässigkeit \n\nUnbedenklichkeitsbescheinigung von der Berufsgenossenschaft\nUnbedenklichkeitsbescheinigung von der Krankenkasse\nUnbedenklichkeitsbescheinigung von der Gemeinde\nUnbedenklichkeitsbescheinigung vom Finanzamt\n\nAusbildungsschwerpunkte: \n\nKaufmännische Grundlagen\nBetriebliches Rechnungswesen\nFinanzielle Verwaltung des Betriebes\nArbeits- und Sozialrecht\nStraßenverkehrsrecht\, Versicherungsrecht\, Umweltschutz\nMarketing\nPersonenbeförderungsgesetz\nBOKraft\nAuslandsfahrten\nBerufszugangsvoraussetzungen\nUnd ganz wichtig ist die Fahrzeugkostenrechnung\n\nDieses ist ein 4-tägiges Seminar! \nFolgende Leistungen sind im Seminarpreis enthalten: \n\nSeminarordner\nFachbuch Verlag Heinrich Vogel oder HeMa-Verlag\nPrüfungsfragenkatalog Verlag Heinrich Vogel oder HeMa-Verlag\nKugelschreiber\, Schreibblock\, Taschenrechner\nTeilnahmebescheinigung bei Bedarf\nGetränke wie Wasser und Kaffee (Präsentseminar)\n\nDas Vorbereitungsseminar auf die IHK – Sach- und Fachkundeprüfung wird nach dem aktuellen Orientierungsrahmenplan der IHK durchgeführt.\nDie langjährige Erfahrung unserer Dozenten spiegelt sich in der Erfolgsquote unserer bestandenen Teilnehmer wider. \nÜberzeugen Sie sich selbst!
URL:https://abv-seminare-martens.de/event/taxi-und-mietwagenverkehr-frankfurt-7/
LOCATION:Frankfurt\, Hessen
CATEGORIES:Vorbereitsungsseminar für die Sach- und Fachkundeprüfung Taxi-/ Mietwagenverkehr
ATTACH;FMTTYPE=image/webp:https://abv-seminare-martens.de/wp-content/uploads/2023/11/Taxi-Eventbild.webp
ORGANIZER;CN="ABV-Seminare Martens":MAILTO:info@abv-seminare-martens.de
END:VEVENT
BEGIN:VEVENT
DTSTART;TZID=Europe/Berlin:20261116T090000
DTEND;TZID=Europe/Berlin:20261120T140000
DTSTAMP:20260424T130907
CREATED:20260102T123252Z
LAST-MODIFIED:20260102T123252Z
UID:10000454-1794819600-1795183200@abv-seminare-martens.de
SUMMARY:Omnibusverkehr Frankfurt
DESCRIPTION:Vorbereitungsseminar für die IHK – Fach- und Sach- und Fachkundeprüfung Omnibusverkehr. \nSeminarzeiten:\nMontag bis Donnerstag von 09:00 Uhr bis 16:30 Uhr.\nFreitag 09:00 Uhr bis 14:00 Uhr. \nVorbereitungsseminar für den Verkehrsleiter in dem Bereich Omnibusverkehr lt. BOKraft \nSie möchten sich als Omnibusunternehmer selbstständig machen? Oder evtl. in diesem Bereich ein Unternehmen führen? Dann benötigen Sie einen Verkehrsleiter.\nDafür gibt es verschiedene Möglichkeiten: \n\nSie bestehen die Sach- und Fachkundeprüfung bei der IHK im Bereich Omnibusverkehr\noder Sie stellen einen internen Betriebsleiter ein\noder Sie benötigen einen externen Betriebsleiter.\n\nNachdem die fachliche Eignung erfolgt ist\, müssen noch 3 weitere Punkte der    Berufszugangsvoraussetzung erfüllt werden: \na) Persönliche Zuverlässigkeit\nDie zuständige Genehmigungsbehörde verlangt in der Regel folgende Dokumente: \n\nEin Führungszeugnis zur Vorlage bei einer Behörde\nAuszug aus dem Gewerbezentralregister zur Vorlage bei einer Behörde\nAuszug aus dem Fahreignungsregister (FAER)\n\n  \nb) Wirtschaftliche Zuverlässigkeit \n\nUnbedenklichkeitsbescheinigung von der Berufsgenossenschaft\nUnbedenklichkeitsbescheinigung von der Krankenkasse\nUnbedenklichkeitsbescheinigung von der Gemeinde\nUnbedenklichkeitsbescheinigung vom Finanzamt\n\n  \nAusbildungsschwerpunkte: \n\nKaufmännische Grundlagen\nBetriebliches Rechnungswesen\nFinanzielle Verwaltung des Betriebes\nArbeits- und Sozialrecht\nStraßenverkehrsrecht\, Versicherungsrecht\, Umweltschutz\nMarketing\nPersonenbeförderungsgesetz\nBOKraft\nNationaler und internationaler Omnibusverkehr\nZollbestimmungen und Reisevertragsrecht\nBerufszugangsvoraussetzungen\nUnd ganz wichtig ist die Fahrzeugkostenrechnung\n\nDieses ist ein 5-tägiges Seminar! \nFolgende Leistungen sind im Seminarpreis enthalten: \n\nSeminarordner\nFachbuch Verlag Heinrich Vogel oder HeMa-Verlag\nPrüfungsfragenkatalog Verlag Heinrich Vogel oder HeMa-Verlag\nKugelschreiber\, Schreibblock\, Taschenrechner\nTeilnahmebescheinigung bei Bedarf\nGetränke wie Wasser und Kaffee (Präsentseminar)\n\n  \nDas Vorbereitungsseminar auf die IHK – Sach- und Fachkundeprüfung wird nach dem aktuellen Orientierungsrahmenplan der IHK durchgeführt.\nDie langjährige Erfahrung unserer Dozenten spiegelt sich in der Erfolgsquote unserer bestandenen Teilnehmer wider. \nÜberzeugen Sie sich selbst!
URL:https://abv-seminare-martens.de/event/omnibusverkehr-frankfurt-7/
LOCATION:Frankfurt\, Hessen
CATEGORIES:Vorbereitsungsseminar für die Sach- und Fachkundeprüfung Omnibusverkehr
ATTACH;FMTTYPE=image/webp:https://abv-seminare-martens.de/wp-content/uploads/2023/11/Omnibus-Eventbild.webp
ORGANIZER;CN="ABV-Seminare Martens":MAILTO:info@abv-seminare-martens.de
END:VEVENT
BEGIN:VEVENT
DTSTART;TZID=Europe/Berlin:20261116T090000
DTEND;TZID=Europe/Berlin:20261120T140000
DTSTAMP:20260424T130907
CREATED:20260102T123805Z
LAST-MODIFIED:20260102T123805Z
UID:10000458-1794819600-1795183200@abv-seminare-martens.de
SUMMARY:Güterverkehr Frankfurt
DESCRIPTION:Sach- und Fachkundeseminar zur Vorbereitung auf die IHK Prüfung im er Bereich Verkehrsleiter Güterkraftverkehr. \nSeminarzeiten:\nMontag bis Donnerstag von 09:00 Uhr bis 16:30 Uhr.\nFreitag 09:00 Uhr bis 14:00 Uhr. \nSie möchten sich als Transportunternehmer selbstständig machen? Oder evtl. in diesem Bereich ein Unternehmen führen? \nDann benötigen Sie einen Verkehrsleiter. Dafür gibt es verschiedene Möglichkeiten: \n\nSie bestehen die Sach- und Fachkundeprüfung bei der IHK im Bereich Güterverkehr\noder Sie stellen einen internen Betriebsleiter ein\noder Sie benötigen einen externen Betriebsleiter.\n\nNachdem die fachliche Eignung erfolgt ist\, müssen noch 3 weitere Punkte der Berufszugangsvoraussetzung erfüllt werden: \na) Persönliche Zuverlässigkeit\nDie zuständige Genehmigungsbehörde verlangt in der Regel folgende Dokumente: \n\n\n\nEin Führungszeugnis zur Vorlage bei einer Behörde\nAuszug aus dem Gewerbezentralregister zur Vorlage bei einer Behörde\nAuszug aus dem Fahreignungsregister (FAER)\n\n\n\nb) Wirtschaftliche Zuverlässigkeit \n\nUnbedenklichkeitsbescheinigung von der Berufsgenossenschaft\nUnbedenklichkeitsbescheinigung von der Krankenkasse\nUnbedenklichkeitsbescheinigung von der Gemeinde\nUnbedenklichkeitsbescheinigung vom Finanzamt\n\nAusbildungsschwerpunkte: \n\nKaufmännische Grundlagen\nBetriebliches Rechnungswesen\nFinanzielle Verwaltung des Betriebes\nArbeits- und Sozialrecht\nStraßenverkehrsrecht\, Versicherungsrecht\, Umweltschutz\nMarketing\nHandelsgesetzbuch (HGB)\nADR – Gefahrgutrecht und Gefahrgutbeauftragter\nInternationaler Güterverkehr (CMR)\nZollbestimmungen und Lebensmitteltransporte\, Abfalltransport etc.\nBerufszugangsvoraussetzungen\nUnd ganz wichtig ist die Fahrzeugkostenrechnung\n\nDieses ist ein 5-tägiges Seminar! \nFolgende Leistungen sind im Seminarpreis enthalten: \n\nSeminarordner\nFachbuch Verlag Heinrich Vogel oder HeMa-Verlag\nPrüfungsfragenkatalog Verlag Heinrich Vogel oder HeMa-Verlag\nKugelschreiber\, Schreibblock\, Taschenrechner\nTeilnahmebescheinigung bei Bedarf\nGetränke wie Wasser und Kaffee (Präsentseminar)\n\nDas Vorbereitungsseminar auf die IHK – Sach- und Fachkundeprüfung wird nach dem aktuellen Orientierungsrahmenplan der IHK durchgeführt. Die langjährige Erfahrung unserer Dozenten spiegelt sich in der Erfolgsquote unserer bestandenen Teilnehmer wider. \nÜberzeugen Sie sich selbst!
URL:https://abv-seminare-martens.de/event/gueterverkehr-frankfurt-7/
LOCATION:Frankfurt\, Hessen
CATEGORIES:Vorbereitsungsseminar für die Sach- und Fachkundeprüfung Verkehrsleiter Güterkraftverkehr
ATTACH;FMTTYPE=image/webp:https://abv-seminare-martens.de/wp-content/uploads/2023/11/Sach-und-Fachkunde-Eventbild.webp
ORGANIZER;CN="ABV-Seminare Martens":MAILTO:info@abv-seminare-martens.de
END:VEVENT
BEGIN:VEVENT
DTSTART;TZID=Europe/Berlin:20261214T090000
DTEND;TZID=Europe/Berlin:20261217T163000
DTSTAMP:20260424T130907
CREATED:20260102T122930Z
LAST-MODIFIED:20260102T122930Z
UID:10000451-1797238800-1797525000@abv-seminare-martens.de
SUMMARY:Taxi- und Mietwagenverkehr Frankfurt
DESCRIPTION:Sach- und Fachkundeseminar zur Vorbereitung auf die IHK Prüfung im er Bereich Betriebsleiter Personenverkehr \nSeminarzeiten:\nMontag bis Donnerstag von 09:00 bis 16.30 Uhr \nVorbereitungsseminar für den Betriebsleiter in dem Bereich Taxi- und Mietwagenverkehr lt. BOKraft (Dieses Seminar ist ein 4-tägiges Vollzeitseminar) \nSie möchten sich als Taxi- oder Mietwagenunternehmer selbstständig machen? Oder evtl. in diesem Bereich ein Unternehmen führen? Dann benötigen Sie einen Betriebsleiter.\nDafür gibt es verschiedene Möglichkeiten: \n\nSie bestehen die Sach- und Fachkundeprüfung bei der IHK im Bereich Taxi- oder Mietwagenverkehr\noder Sie stellen einen internen Betriebsleiter ein\noder Sie benötigen einen externen Betriebsleiter\n\nNachdem die fachliche Eignung erfolgt ist\, müssen noch 3 weitere Punkte der Berufszugangsvoraussetzung erfüllt werden: \na) Persönliche Zuverlässigkeit\nDie zuständige Genehmigungsbehörde verlangt in der Regel folgende Dokumente: \n\nEin Führungszeugnis zur Vorlage bei einer Behörde\nAuszug aus dem Gewerbezentralregister zur Vorlage bei einer Behörde\nAuszug aus dem Fahreignungsregister (FAER)\n\nb) Wirtschaftliche Zuverlässigkeit \n\nUnbedenklichkeitsbescheinigung von der Berufsgenossenschaft\nUnbedenklichkeitsbescheinigung von der Krankenkasse\nUnbedenklichkeitsbescheinigung von der Gemeinde\nUnbedenklichkeitsbescheinigung vom Finanzamt\n\nAusbildungsschwerpunkte: \n\nKaufmännische Grundlagen\nBetriebliches Rechnungswesen\nFinanzielle Verwaltung des Betriebes\nArbeits- und Sozialrecht\nStraßenverkehrsrecht\, Versicherungsrecht\, Umweltschutz\nMarketing\nPersonenbeförderungsgesetz\nBOKraft\nAuslandsfahrten\nBerufszugangsvoraussetzungen\nUnd ganz wichtig ist die Fahrzeugkostenrechnung\n\nDieses ist ein 4-tägiges Seminar! \nFolgende Leistungen sind im Seminarpreis enthalten: \n\nSeminarordner\nFachbuch Verlag Heinrich Vogel oder HeMa-Verlag\nPrüfungsfragenkatalog Verlag Heinrich Vogel oder HeMa-Verlag\nKugelschreiber\, Schreibblock\, Taschenrechner\nTeilnahmebescheinigung bei Bedarf\nGetränke wie Wasser und Kaffee (Präsentseminar)\n\nDas Vorbereitungsseminar auf die IHK – Sach- und Fachkundeprüfung wird nach dem aktuellen Orientierungsrahmenplan der IHK durchgeführt.\nDie langjährige Erfahrung unserer Dozenten spiegelt sich in der Erfolgsquote unserer bestandenen Teilnehmer wider. \nÜberzeugen Sie sich selbst!
URL:https://abv-seminare-martens.de/event/taxi-und-mietwagenverkehr-frankfurt-8/
LOCATION:Frankfurt\, Hessen
CATEGORIES:Vorbereitsungsseminar für die Sach- und Fachkundeprüfung Taxi-/ Mietwagenverkehr
ATTACH;FMTTYPE=image/webp:https://abv-seminare-martens.de/wp-content/uploads/2023/11/Taxi-Eventbild.webp
ORGANIZER;CN="ABV-Seminare Martens":MAILTO:info@abv-seminare-martens.de
END:VEVENT
BEGIN:VEVENT
DTSTART;TZID=Europe/Berlin:20261214T090000
DTEND;TZID=Europe/Berlin:20261218T140000
DTSTAMP:20260424T130907
CREATED:20260102T123350Z
LAST-MODIFIED:20260102T123350Z
UID:10000455-1797238800-1797602400@abv-seminare-martens.de
SUMMARY:Omnibusverkehr Frankfurt
DESCRIPTION:Vorbereitungsseminar für die IHK – Fach- und Sach- und Fachkundeprüfung Omnibusverkehr. \nSeminarzeiten:\nMontag bis Donnerstag von 09:00 Uhr bis 16:30 Uhr.\nFreitag 09:00 Uhr bis 14:00 Uhr. \nVorbereitungsseminar für den Verkehrsleiter in dem Bereich Omnibusverkehr lt. BOKraft \nSie möchten sich als Omnibusunternehmer selbstständig machen? Oder evtl. in diesem Bereich ein Unternehmen führen? Dann benötigen Sie einen Verkehrsleiter.\nDafür gibt es verschiedene Möglichkeiten: \n\nSie bestehen die Sach- und Fachkundeprüfung bei der IHK im Bereich Omnibusverkehr\noder Sie stellen einen internen Betriebsleiter ein\noder Sie benötigen einen externen Betriebsleiter.\n\nNachdem die fachliche Eignung erfolgt ist\, müssen noch 3 weitere Punkte der    Berufszugangsvoraussetzung erfüllt werden: \na) Persönliche Zuverlässigkeit\nDie zuständige Genehmigungsbehörde verlangt in der Regel folgende Dokumente: \n\nEin Führungszeugnis zur Vorlage bei einer Behörde\nAuszug aus dem Gewerbezentralregister zur Vorlage bei einer Behörde\nAuszug aus dem Fahreignungsregister (FAER)\n\n  \nb) Wirtschaftliche Zuverlässigkeit \n\nUnbedenklichkeitsbescheinigung von der Berufsgenossenschaft\nUnbedenklichkeitsbescheinigung von der Krankenkasse\nUnbedenklichkeitsbescheinigung von der Gemeinde\nUnbedenklichkeitsbescheinigung vom Finanzamt\n\n  \nAusbildungsschwerpunkte: \n\nKaufmännische Grundlagen\nBetriebliches Rechnungswesen\nFinanzielle Verwaltung des Betriebes\nArbeits- und Sozialrecht\nStraßenverkehrsrecht\, Versicherungsrecht\, Umweltschutz\nMarketing\nPersonenbeförderungsgesetz\nBOKraft\nNationaler und internationaler Omnibusverkehr\nZollbestimmungen und Reisevertragsrecht\nBerufszugangsvoraussetzungen\nUnd ganz wichtig ist die Fahrzeugkostenrechnung\n\nDieses ist ein 5-tägiges Seminar! \nFolgende Leistungen sind im Seminarpreis enthalten: \n\nSeminarordner\nFachbuch Verlag Heinrich Vogel oder HeMa-Verlag\nPrüfungsfragenkatalog Verlag Heinrich Vogel oder HeMa-Verlag\nKugelschreiber\, Schreibblock\, Taschenrechner\nTeilnahmebescheinigung bei Bedarf\nGetränke wie Wasser und Kaffee (Präsentseminar)\n\n  \nDas Vorbereitungsseminar auf die IHK – Sach- und Fachkundeprüfung wird nach dem aktuellen Orientierungsrahmenplan der IHK durchgeführt.\nDie langjährige Erfahrung unserer Dozenten spiegelt sich in der Erfolgsquote unserer bestandenen Teilnehmer wider. \nÜberzeugen Sie sich selbst!
URL:https://abv-seminare-martens.de/event/omnibusverkehr-frankfurt-8/
LOCATION:Frankfurt\, Hessen
CATEGORIES:Vorbereitsungsseminar für die Sach- und Fachkundeprüfung Omnibusverkehr
ATTACH;FMTTYPE=image/webp:https://abv-seminare-martens.de/wp-content/uploads/2023/11/Omnibus-Eventbild.webp
ORGANIZER;CN="ABV-Seminare Martens":MAILTO:info@abv-seminare-martens.de
END:VEVENT
BEGIN:VEVENT
DTSTART;TZID=Europe/Berlin:20261214T090000
DTEND;TZID=Europe/Berlin:20261218T140000
DTSTAMP:20260424T130907
CREATED:20260102T123927Z
LAST-MODIFIED:20260102T123927Z
UID:10000459-1797238800-1797602400@abv-seminare-martens.de
SUMMARY:Güterverkehr Frankfurt
DESCRIPTION:Sach- und Fachkundeseminar zur Vorbereitung auf die IHK Prüfung im er Bereich Verkehrsleiter Güterkraftverkehr. \nSeminarzeiten:\nMontag bis Donnerstag von 09:00 Uhr bis 16:30 Uhr.\nFreitag 09:00 Uhr bis 14:00 Uhr. \nSie möchten sich als Transportunternehmer selbstständig machen? Oder evtl. in diesem Bereich ein Unternehmen führen? \nDann benötigen Sie einen Verkehrsleiter. Dafür gibt es verschiedene Möglichkeiten: \n\nSie bestehen die Sach- und Fachkundeprüfung bei der IHK im Bereich Güterverkehr\noder Sie stellen einen internen Betriebsleiter ein\noder Sie benötigen einen externen Betriebsleiter.\n\nNachdem die fachliche Eignung erfolgt ist\, müssen noch 3 weitere Punkte der Berufszugangsvoraussetzung erfüllt werden: \na) Persönliche Zuverlässigkeit\nDie zuständige Genehmigungsbehörde verlangt in der Regel folgende Dokumente: \n\n\n\nEin Führungszeugnis zur Vorlage bei einer Behörde\nAuszug aus dem Gewerbezentralregister zur Vorlage bei einer Behörde\nAuszug aus dem Fahreignungsregister (FAER)\n\n\n\nb) Wirtschaftliche Zuverlässigkeit \n\nUnbedenklichkeitsbescheinigung von der Berufsgenossenschaft\nUnbedenklichkeitsbescheinigung von der Krankenkasse\nUnbedenklichkeitsbescheinigung von der Gemeinde\nUnbedenklichkeitsbescheinigung vom Finanzamt\n\nAusbildungsschwerpunkte: \n\nKaufmännische Grundlagen\nBetriebliches Rechnungswesen\nFinanzielle Verwaltung des Betriebes\nArbeits- und Sozialrecht\nStraßenverkehrsrecht\, Versicherungsrecht\, Umweltschutz\nMarketing\nHandelsgesetzbuch (HGB)\nADR – Gefahrgutrecht und Gefahrgutbeauftragter\nInternationaler Güterverkehr (CMR)\nZollbestimmungen und Lebensmitteltransporte\, Abfalltransport etc.\nBerufszugangsvoraussetzungen\nUnd ganz wichtig ist die Fahrzeugkostenrechnung\n\nDieses ist ein 5-tägiges Seminar! \nFolgende Leistungen sind im Seminarpreis enthalten: \n\nSeminarordner\nFachbuch Verlag Heinrich Vogel oder HeMa-Verlag\nPrüfungsfragenkatalog Verlag Heinrich Vogel oder HeMa-Verlag\nKugelschreiber\, Schreibblock\, Taschenrechner\nTeilnahmebescheinigung bei Bedarf\nGetränke wie Wasser und Kaffee (Präsentseminar)\n\nDas Vorbereitungsseminar auf die IHK – Sach- und Fachkundeprüfung wird nach dem aktuellen Orientierungsrahmenplan der IHK durchgeführt. Die langjährige Erfahrung unserer Dozenten spiegelt sich in der Erfolgsquote unserer bestandenen Teilnehmer wider. \nÜberzeugen Sie sich selbst!
URL:https://abv-seminare-martens.de/event/gueterverkehr-frankfurt-8/
LOCATION:Frankfurt\, Hessen
CATEGORIES:Vorbereitsungsseminar für die Sach- und Fachkundeprüfung Verkehrsleiter Güterkraftverkehr
ATTACH;FMTTYPE=image/webp:https://abv-seminare-martens.de/wp-content/uploads/2023/11/Sach-und-Fachkunde-Eventbild.webp
ORGANIZER;CN="ABV-Seminare Martens":MAILTO:info@abv-seminare-martens.de
END:VEVENT
END:VCALENDAR